BEGIN:VCALENDAR
VERSION:2.0
PRODID:icalendar-ruby
CALSCALE:GREGORIAN
BEGIN:VEVENT
DTSTAMP:20260421T004301Z
UID:b738fc52-1f64-4cc8-8bed-8c0051c479a8
DTSTART;VALUE=DATE:20191024
DESCRIPTION:Property ID# 463170\, Time: 10:00AM
SUMMARY:Auction for 
END:VEVENT
END:VCALENDAR
