BEGIN:VCALENDAR
VERSION:2.0
PRODID:icalendar-ruby
CALSCALE:GREGORIAN
BEGIN:VEVENT
DTSTAMP:20260420T210447Z
UID:19262d25-5e70-4215-88b2-a315f70bccf6
DTSTART;VALUE=DATE:20191128
DESCRIPTION:Property ID# 465712\, Time: 10:00AM
SUMMARY:Auction for 
END:VEVENT
END:VCALENDAR
