BEGIN:VCALENDAR
VERSION:2.0
PRODID:icalendar-ruby
CALSCALE:GREGORIAN
BEGIN:VEVENT
DTSTAMP:20260420T210127Z
UID:4bb209eb-c166-41f2-8d5c-078b0eb4e1ea
DTSTART;VALUE=DATE:20200409
DESCRIPTION:Property ID# 476381\, Locatoin: 471 Papanui Road\, Papanui\, Un
 less Sold Prior\, Time: 10:00AM
SUMMARY:Auction for 
END:VEVENT
END:VCALENDAR
