BEGIN:VCALENDAR
VERSION:2.0
PRODID:icalendar-ruby
CALSCALE:GREGORIAN
BEGIN:VEVENT
DTSTAMP:20260420T210127Z
UID:babec33c-a3fe-4e4c-9438-634f870b8e53
DTSTART;VALUE=DATE:20200806
DESCRIPTION:Property ID# 485059\, Locatoin: 471 Papanui Road\, Papanui\, Ti
 me: 10:00AM
SUMMARY:Auction for 
END:VEVENT
END:VCALENDAR
