BEGIN:VCALENDAR
VERSION:2.0
PRODID:icalendar-ruby
CALSCALE:GREGORIAN
BEGIN:VEVENT
DTSTAMP:20260420T210507Z
UID:8c10cc82-3bb1-4007-9efa-b754156a8728
DTSTART;VALUE=DATE:20200820
DESCRIPTION:Property ID# 485881\, Locatoin: Gold Auction Rooms\, 471 Papanu
 i Road\, Christchurch \, Time: 10:00AM
SUMMARY:Auction for 
END:VEVENT
END:VCALENDAR
