BEGIN:VCALENDAR
VERSION:2.0
PRODID:icalendar-ruby
CALSCALE:GREGORIAN
BEGIN:VEVENT
DTSTAMP:20260421T004529Z
UID:1f562f44-d16b-45fb-a290-5e882608cb6f
DTSTART;VALUE=DATE:20200910
DESCRIPTION:Property ID# 487978\, Time: 10:00AM
SUMMARY:Auction for 
END:VEVENT
END:VCALENDAR
