BEGIN:VCALENDAR
VERSION:2.0
PRODID:icalendar-ruby
CALSCALE:GREGORIAN
BEGIN:VEVENT
DTSTAMP:20260420T210616Z
UID:a0881138-6b2e-4d19-b0bc-e7da84da25dc
DTSTART;VALUE=DATE:20200917
DESCRIPTION:Property ID# 488240\, Locatoin: Gold Auction Rooms\, 471 Papanu
 i Road\, Christchurch\, Time: 12:00PM
SUMMARY:Auction for 
END:VEVENT
END:VCALENDAR
