BEGIN:VCALENDAR
VERSION:2.0
PRODID:icalendar-ruby
CALSCALE:GREGORIAN
BEGIN:VEVENT
DTSTAMP:20260420T211707Z
UID:bc9ae1ad-392c-4a5a-b9dd-4b208ee79996
DTSTART;VALUE=DATE:20210325
DESCRIPTION:Property ID# 504056\, Locatoin: Gold Auction Rooms\, 471 Papanu
 i Road\, Christchurch\, Time: 10:00AM
SUMMARY:Auction for 
END:VEVENT
END:VCALENDAR
