BEGIN:VCALENDAR
VERSION:2.0
PRODID:icalendar-ruby
CALSCALE:GREGORIAN
BEGIN:VEVENT
DTSTAMP:20260420T210631Z
UID:dcd50095-4784-47ee-9e50-e7b4e1a829cc
DTSTART;VALUE=DATE:20210401
DESCRIPTION:Property ID# 504350\, Locatoin: Gold Auction Rooms\, 471 Papanu
 i Road\, Christchurch\, Time: 10:00AM
SUMMARY:Auction for 
END:VEVENT
END:VCALENDAR
