BEGIN:VCALENDAR
VERSION:2.0
PRODID:icalendar-ruby
CALSCALE:GREGORIAN
BEGIN:VEVENT
DTSTAMP:20260420T174109Z
UID:55297876-a13e-4db7-a052-5d950a22c154
DTSTART;VALUE=DATE:20210513
DESCRIPTION:Property ID# 507734\, Locatoin: Gold Auction Rooms\, 471 Papanu
 i Road\, Christchurch\, Time: 10:00AM
SUMMARY:Auction for 
END:VEVENT
END:VCALENDAR
