BEGIN:VCALENDAR
VERSION:2.0
PRODID:icalendar-ruby
CALSCALE:GREGORIAN
BEGIN:VEVENT
DTSTAMP:20260422T070102Z
UID:9edd0d5e-7945-4a75-9eb1-a24526b61c65
DTSTART;VALUE=DATE:20211008
DESCRIPTION:Property ID# 517925\, Locatoin: Harcourts Holmwood\, Ground Flo
 or\, 397 - 399 Ilam Road\, Ilam (unless sold prior)\, Time: 4:00PM
SUMMARY:Auction for 
END:VEVENT
END:VCALENDAR
