BEGIN:VCALENDAR
VERSION:2.0
PRODID:icalendar-ruby
CALSCALE:GREGORIAN
BEGIN:VEVENT
DTSTAMP:20260421T011106Z
UID:3a23208c-7c20-4ce2-b801-b9af5fd7e14a
DTSTART;VALUE=DATE:20211202
DESCRIPTION:Property ID# 521463\, Locatoin: Gold Auction Rooms\, 471 Papanu
 i Road\, Christchurch (Unless sold prior)\, Time: 10:00AM
SUMMARY:Auction for 
END:VEVENT
END:VCALENDAR
