BEGIN:VCALENDAR
VERSION:2.0
PRODID:icalendar-ruby
CALSCALE:GREGORIAN
BEGIN:VEVENT
DTSTAMP:20260420T210508Z
UID:9f7aadc7-1b78-495c-9456-3a4d1583eaf6
DTSTART;VALUE=DATE:20211221
DESCRIPTION:Property ID# 524652\, Locatoin: Gold Auction Rooms\, 471 Papanu
 i Road\, Christchurch (Unless sold prior)\, Time: 10:00AM
SUMMARY:Auction for 
END:VEVENT
END:VCALENDAR
