BEGIN:VCALENDAR
VERSION:2.0
PRODID:icalendar-ruby
CALSCALE:GREGORIAN
BEGIN:VEVENT
DTSTAMP:20260420T210718Z
UID:22f4dfb6-8096-4943-8d21-8cf29c71a35a
DTSTART;VALUE=DATE:20220818
DESCRIPTION:Property ID# 540580\, Locatoin: Gold Auction Rooms\, 471 Papanu
 i Road\, Christchurch (Unless sold prior)\, Time: 10:00AM
SUMMARY:Auction for 
END:VEVENT
END:VCALENDAR
