BEGIN:VCALENDAR
VERSION:2.0
PRODID:icalendar-ruby
CALSCALE:GREGORIAN
BEGIN:VEVENT
DTSTAMP:20260419T202407Z
UID:5689daa7-77c1-49b5-b8b4-7bd4acc168e9
DTSTART;VALUE=DATE:20220907
DESCRIPTION:Property ID# 542127\, Locatoin: Harcourts Holmwood\, Ground Flo
 or\, 397 - 399 Ilam Road\, Ilam (unless sold prior)\, Time: 10:00AM
SUMMARY:Auction for 
END:VEVENT
END:VCALENDAR
