BEGIN:VCALENDAR
VERSION:2.0
PRODID:icalendar-ruby
CALSCALE:GREGORIAN
BEGIN:VEVENT
DTSTAMP:20260420T210440Z
UID:c3307755-592b-482b-829e-328c22e9e7f3
DTSTART;VALUE=DATE:20221124
DESCRIPTION:Property ID# 546188\, Locatoin: Gold Auction Rooms\, 471 Papanu
 i Road\, Christchurch (Unless sold prior)\, Time: 10:00AM
SUMMARY:Auction for 
END:VEVENT
END:VCALENDAR
