BEGIN:VCALENDAR
VERSION:2.0
PRODID:icalendar-ruby
CALSCALE:GREGORIAN
BEGIN:VEVENT
DTSTAMP:20260419T201849Z
UID:47a6ebc1-9c6f-4c6e-8fa4-960ec662bd11
DTSTART;VALUE=DATE:20230215
DESCRIPTION:Property ID# 550400\, Locatoin: Harcourts Holmwood\, Ground Flo
 or\, 397 - 399 Ilam Road\, Ilam (unless sold prior)\, Time: 10:00AM
SUMMARY:Auction for 
END:VEVENT
END:VCALENDAR
