BEGIN:VCALENDAR
VERSION:2.0
PRODID:icalendar-ruby
CALSCALE:GREGORIAN
BEGIN:VEVENT
DTSTAMP:20260420T230732Z
UID:c8aa23a9-03d9-4665-a9a7-402bfbf8e53b
DTSTART;VALUE=DATE:20230829
DESCRIPTION:Property ID# 561182\, Time: 12:00PM
SUMMARY:Auction for 
END:VEVENT
END:VCALENDAR
