BEGIN:VCALENDAR
VERSION:2.0
PRODID:icalendar-ruby
CALSCALE:GREGORIAN
BEGIN:VEVENT
DTSTAMP:20260421T020236Z
UID:a184c672-5bd5-4dd5-a1d7-22a21b4a8c78
DTSTART;VALUE=DATE:20240509
DESCRIPTION:Property ID# 572893\, Locatoin: Russley Golf Course\, 428 Memor
 ial Avenue\, Burnside\, Time: 1:00PM
SUMMARY:Auction for 
END:VEVENT
END:VCALENDAR
