BEGIN:VCALENDAR
VERSION:2.0
PRODID:icalendar-ruby
CALSCALE:GREGORIAN
BEGIN:VEVENT
DTSTAMP:20260421T021007Z
UID:93e6c15f-1866-48e6-b31e-1cadf607dd4c
DTSTART;VALUE=DATE:20240917
DESCRIPTION:Property ID# 580313\, Time: 12:00PM
SUMMARY:Auction for 
END:VEVENT
END:VCALENDAR
