BEGIN:VCALENDAR
VERSION:2.0
PRODID:icalendar-ruby
CALSCALE:GREGORIAN
BEGIN:VEVENT
DTSTAMP:20260421T021832Z
UID:52b3405d-bed7-44a5-8e19-1884e2d8a7f8
DTSTART;VALUE=DATE:20241015
DESCRIPTION:Property ID# 581575\, Time: 12:00PM
SUMMARY:Auction for 
END:VEVENT
END:VCALENDAR
