BEGIN:VCALENDAR
VERSION:2.0
PRODID:icalendar-ruby
CALSCALE:GREGORIAN
BEGIN:VEVENT
DTSTAMP:20260419T121709Z
UID:82354d0b-e9ee-47ad-adf5-1fe857d50024
DTSTART;VALUE=DATE:20250708
DESCRIPTION:Property ID# 594340\, Locatoin: Harcourts gold Papanui\, 471 Pa
 panui Road\, Time: 4:00PM
SUMMARY:Auction for 
END:VEVENT
END:VCALENDAR
