BEGIN:VCALENDAR
VERSION:2.0
PRODID:icalendar-ruby
CALSCALE:GREGORIAN
BEGIN:VEVENT
DTSTAMP:20260423T083500Z
UID:a44adb62-a9cc-4b4f-8a9c-e90958bbc935
DTSTART;VALUE=DATE:20250806
DESCRIPTION:Property ID# 594948\, Time: 1:00PM
SUMMARY:Auction for 
END:VEVENT
END:VCALENDAR
