BEGIN:VCALENDAR
VERSION:2.0
PRODID:icalendar-ruby
CALSCALE:GREGORIAN
BEGIN:VEVENT
DTSTAMP:20260421T021633Z
UID:c1d04849-9ffa-4cc0-be8a-4c55f6150cb5
DTSTART;VALUE=DATE:20250924
DESCRIPTION:Property ID# 597208\, Time: 12:00PM
SUMMARY:Auction for 
END:VEVENT
END:VCALENDAR
