BEGIN:VCALENDAR
VERSION:2.0
PRODID:icalendar-ruby
CALSCALE:GREGORIAN
BEGIN:VEVENT
DTSTAMP:20260421T020635Z
UID:ca40c764-53ab-483d-93a6-0a9388907ccc
DTSTART;VALUE=DATE:20260127
DESCRIPTION:Property ID# 601989\, Time: 12:00PM
SUMMARY:Auction for 23 Goldney Close
END:VEVENT
END:VCALENDAR
