BEGIN:VCALENDAR
VERSION:2.0
PRODID:icalendar-ruby
CALSCALE:GREGORIAN
BEGIN:VEVENT
DTSTAMP:20260421T020726Z
UID:b2266685-56a2-44ce-8fc0-8737b870535e
DTSTART;VALUE=DATE:20260128
DESCRIPTION:Property ID# 601990\, Time: 12:00PM
SUMMARY:Auction for 27 Kaitorete Drive
END:VEVENT
END:VCALENDAR
