BEGIN:VCALENDAR
VERSION:2.0
PRODID:icalendar-ruby
CALSCALE:GREGORIAN
BEGIN:VEVENT
DTSTAMP:20260419T185319Z
UID:4af5dd26-6e3f-441d-8022-b67ac1faac32
DTSTART;VALUE=DATE:20260312
DESCRIPTION:Property ID# 603134\, Locatoin: Onsite (unless sold prior)\, Ti
 me: 4:00PM
SUMMARY:Auction for 
END:VEVENT
END:VCALENDAR
